BEGIN:VCALENDAR
VERSION:2.0
PRODID:SchoolNow
CALSCALE:GREGORIAN
BEGIN:VEVENT
UID:f82e8fb4-a886-11f0-939c-0a58a9feac02
DTSTAMP:20251216T200037Z
SUMMARY:Victor School Site Council Meeting (Virtual)
LOCATION:https://tusd-org.zoom.us/j/84523617739?pwd=mmh6HsEndqC4xm7XdzSz8Sg
 bDV0u7W.1&jst=3
URL;VALUE=URI:https://www.tusd.org/schools/victor/calendar/8720449/victor-s
 chool-site-council-meeting-virtual
DTSTART:20260226T233000Z
DTEND:20260227T010000Z
END:VEVENT
END:VCALENDAR
