BEGIN:VCALENDAR
VERSION:2.0
PRODID:SchoolNow
CALSCALE:GREGORIAN
BEGIN:VEVENT
UID:fb65f3b2-a853-11f0-80c0-0ef4b5ca1c2f
DTSTAMP:20251216T200037Z
SUMMARY:5th Grade Pali Institute Parent Meeting (Virtual)
LOCATION:https://tusd-org.zoom.us/j/82206433882?pwd=7sYMbHxIufA1llcayS1CB7X
 2wH6zyO.1&jst=3
URL;VALUE=URI:https://www.tusd.org/schools/victor/calendar/8719687/5th-grad
 e-pali-institute-parent-meeting-virtual
DTSTART:20251024T003000Z
DTEND:20251024T013000Z
END:VEVENT
END:VCALENDAR
