BEGIN:VCALENDAR
VERSION:2.0
PRODID:SchoolNow
CALSCALE:GREGORIAN
BEGIN:VEVENT
UID:9ea0b780-9d94-11f0-ba1a-0a58a9feac02
DTSTAMP:20251216T200037Z
SUMMARY:Island Inspirations Assemblies - Cafeteria
LOCATION:Victor Elementary School\, 4820 Spencer St\, Torrance\, CA 90503\,
  USA
URL;VALUE=URI:https://www.tusd.org/schools/victor/calendar/8678917/island-i
 nspirations-assemblies-cafeteria
DTSTART:20251205T170000Z
DTEND:20251205T200000Z
END:VEVENT
END:VCALENDAR
