BEGIN:VCALENDAR
VERSION:2.0
PRODID:SchoolNow
CALSCALE:GREGORIAN
BEGIN:VEVENT
UID:9280091e-989a-11f0-bf8a-0affc4828199
DTSTAMP:20251216T200037Z
SUMMARY:NO SCHOOL (Yom Kippur)
URL;VALUE=URI:https://www.tusd.org/schools/victor/calendar/8656807/no-schoo
 l-yom-kippur
DTSTART;VALUE=DATE:20251002
DTEND;VALUE=DATE:20251003
END:VEVENT
END:VCALENDAR
