BEGIN:VCALENDAR
VERSION:2.0
PRODID:SchoolNow
CALSCALE:GREGORIAN
BEGIN:VEVENT
UID:a9acf6d6-90d6-11f0-a680-0a58a9feac02
DTSTAMP:20251216T200037Z
SUMMARY:Peanut Butter Drive
URL;VALUE=URI:https://www.tusd.org/schools/victor/calendar/8619369/peanut-b
 utter-drive
DTSTART;VALUE=DATE:20250908
DTEND;VALUE=DATE:20250923
END:VEVENT
END:VCALENDAR
