BEGIN:VCALENDAR
VERSION:2.0
PRODID:SchoolNow
CALSCALE:GREGORIAN
BEGIN:VEVENT
UID:bbd526e6-8f71-11f0-82bd-0a58a9feac02
DTSTAMP:20251216T200037Z
SUMMARY:Victor GATE Information Meeting for 3rd - 5th Grade
LOCATION:Victor Elementary School\, 4820 Spencer St\, Torrance\, CA 90503\,
  USA
URL;VALUE=URI:https://www.tusd.org/schools/victor/calendar/8611708/victor-g
 ate-information-meeting-for-3rd-5th-grade
DTSTART:20250912T013000Z
DTEND:20250912T020000Z
END:VEVENT
END:VCALENDAR
