BEGIN:VCALENDAR
VERSION:2.0
PRODID:SchoolNow
CALSCALE:GREGORIAN
BEGIN:VEVENT
UID:c60140ae-8ea5-11f0-8f73-02063cc0ee57
DTSTAMP:20251216T200037Z
SUMMARY:TUSD Elementary School Track Meet
LOCATION:West High School\, 20401 Victor St\, Torrance\, CA 90503\, USA
URL;VALUE=URI:https://www.tusd.org/schools/victor/calendar/8607363/tusd-ele
 mentary-school-track-meet
DTSTART:20260529T213000Z
DTEND:20260530T020000Z
END:VEVENT
END:VCALENDAR
