BEGIN:VCALENDAR
VERSION:2.0
PRODID:SchoolNow
CALSCALE:GREGORIAN
BEGIN:VEVENT
UID:01a6319e-8a11-11f0-a17f-0a58a9feac02
DTSTAMP:20251216T200037Z
SUMMARY:5th Grade Fundraiser: Car Wash
LOCATION:Victor Elementary School\, 4820 Spencer St\, Torrance\, CA 90503\,
  USA
URL;VALUE=URI:https://www.tusd.org/schools/victor/calendar/8583229/5th-grad
 e-fundraiser-car-wash
DTSTART:20251011T160000Z
DTEND:20251011T190000Z
END:VEVENT
END:VCALENDAR
