BEGIN:VCALENDAR
VERSION:2.0
PRODID:SchoolNow
CALSCALE:GREGORIAN
BEGIN:VEVENT
UID:01a62eba-8a11-11f0-94d7-0a58a9feac02
DTSTAMP:20251216T200037Z
SUMMARY:Lazy Dog Restaurant Night Fundraiser!
LOCATION:Lazy Dog Restaurant & Bar\, 3525 W Carson St\, Torrance\, CA 90503
 \, USA
URL;VALUE=URI:https://www.tusd.org/schools/victor/calendar/8583228/lazy-dog
 -restaurant-night-fundraiser
DTSTART;VALUE=DATE:20250929
DTEND;VALUE=DATE:20251004
END:VEVENT
END:VCALENDAR
