BEGIN:VCALENDAR
VERSION:2.0
PRODID:SchoolNow
CALSCALE:GREGORIAN
BEGIN:VEVENT
UID:6a8b7c3a-847d-11f0-8ae2-0affc15875df
DTSTAMP:20251216T200037Z
SUMMARY:TUSD Elementary School Academic Pentathlon
LOCATION:South High School\, 4801 Pacific Coast Hwy\, Torrance\, CA 90505\,
  USA
URL;VALUE=URI:https://www.tusd.org/schools/victor/calendar/8556899/tusd-ele
 mentary-school-academic-pentathlon
DTSTART:20260424T000000Z
DTEND:20260424T020000Z
END:VEVENT
END:VCALENDAR
