BEGIN:VCALENDAR
VERSION:2.0
PRODID:SchoolNow
CALSCALE:GREGORIAN
BEGIN:VEVENT
UID:cfc4de92-83b1-11f0-980e-0a58a9feac02
DTSTAMP:20251216T200037Z
SUMMARY:Spirit Assembly (Virtual)
LOCATION:Victor Elementary School\, 4820 Spencer St\, Torrance\, CA 90503\,
  USA
URL;VALUE=URI:https://www.tusd.org/schools/victor/calendar/8552436/spirit-a
 ssembly-virtual
DTSTART:20250905T161500Z
DTEND:20250905T164500Z
END:VEVENT
END:VCALENDAR
