BEGIN:VCALENDAR
VERSION:2.0
PRODID:SchoolNow
CALSCALE:GREGORIAN
BEGIN:VEVENT
UID:61f0fdb0-82b2-11f0-b63a-0ec1868e648d
DTSTAMP:20251216T200037Z
SUMMARY:MEMORIAL DAY (NO SCHOOL)
URL;VALUE=URI:https://www.tusd.org/schools/victor/calendar/8546926/memorial
 -day-no-school
DTSTART;VALUE=DATE:20260525
DTEND;VALUE=DATE:20260526
END:VEVENT
END:VCALENDAR
