BEGIN:VCALENDAR
VERSION:2.0
PRODID:SchoolNow
CALSCALE:GREGORIAN
BEGIN:VEVENT
UID:61f0fb26-82b2-11f0-9a79-0ec1868e648d
DTSTAMP:20251216T200037Z
SUMMARY:MLK DAY (NO SCHOOL)
URL;VALUE=URI:https://www.tusd.org/schools/victor/calendar/8546924/mlk-day-
 no-school
DTSTART;VALUE=DATE:20260119
DTEND;VALUE=DATE:20260120
END:VEVENT
END:VCALENDAR
