BEGIN:VCALENDAR
VERSION:2.0
PRODID:SchoolNow
CALSCALE:GREGORIAN
BEGIN:VEVENT
UID:61f0f860-82b2-11f0-a662-0ec1868e648d
DTSTAMP:20251216T200037Z
SUMMARY:VETERAN'S DAY (NO SCHOOL)
URL;VALUE=URI:https://www.tusd.org/schools/victor/calendar/8546923/veterans
 -day-no-school
DTSTART;VALUE=DATE:20251111
DTEND;VALUE=DATE:20251112
END:VEVENT
END:VCALENDAR
