BEGIN:VCALENDAR
VERSION:2.0
PRODID:SchoolNow
CALSCALE:GREGORIAN
BEGIN:VEVENT
UID:61f0d858-82b2-11f0-9d9b-0ec1868e648d
DTSTAMP:20251216T200037Z
SUMMARY:No School (Non-Teaching Day)
URL;VALUE=URI:https://www.tusd.org/schools/victor/calendar/8546922/no-schoo
 l-non-teaching-day
DTSTART;VALUE=DATE:20251110
DTEND;VALUE=DATE:20251111
END:VEVENT
END:VCALENDAR
