BEGIN:VCALENDAR
VERSION:2.0
PRODID:SchoolNow
CALSCALE:GREGORIAN
BEGIN:VEVENT
UID:88b7cdd4-7fb5-11f0-bfcf-0e38a11b1081
DTSTAMP:20251216T200037Z
SUMMARY:No School
URL;VALUE=URI:https://www.tusd.org/schools/victor/calendar/8534682/no-schoo
 l
DTSTART;VALUE=DATE:20260216
DTEND;VALUE=DATE:20260217
END:VEVENT
END:VCALENDAR
