BEGIN:VCALENDAR
VERSION:2.0
PRODID:SchoolNow
CALSCALE:GREGORIAN
BEGIN:VEVENT
UID:f095976a-77bd-11f0-aaee-0a58a9feac02
DTSTAMP:20251216T200037Z
SUMMARY:Picture Day
URL;VALUE=URI:https://www.tusd.org/schools/victor/calendar/8502662/picture-
 day
DTSTART;VALUE=DATE:20251016
DTEND;VALUE=DATE:20251017
END:VEVENT
END:VCALENDAR
