BEGIN:VCALENDAR
VERSION:2.0
PRODID:SchoolNow
CALSCALE:GREGORIAN
BEGIN:VEVENT
UID:f0959300-77bd-11f0-9fc8-0a58a9feac02
DTSTAMP:20251216T200037Z
SUMMARY:ELMAC #4
LOCATION:TBD West Side School
URL;VALUE=URI:https://www.tusd.org/schools/victor/calendar/8502661/elmac-4
DTSTART:20260501T000000Z
DTEND:20260501T010000Z
END:VEVENT
END:VCALENDAR
