BEGIN:VCALENDAR
VERSION:2.0
PRODID:SchoolNow
CALSCALE:GREGORIAN
BEGIN:VEVENT
UID:f760fa6a-7724-11f0-912d-0a58a9feac02
DTSTAMP:20251216T200037Z
SUMMARY:ELMAC #3
LOCATION:TBD West Side School
URL;VALUE=URI:https://www.tusd.org/schools/victor/calendar/8493158/elmac-3
DTSTART:20260320T170000Z
DTEND:20260320T180000Z
END:VEVENT
END:VCALENDAR
