BEGIN:VCALENDAR
VERSION:2.0
PRODID:SchoolNow
CALSCALE:GREGORIAN
BEGIN:VEVENT
UID:f760d8c8-7724-11f0-b9a6-0a58a9feac02
DTSTAMP:20251216T200037Z
SUMMARY:ELMAC #2
LOCATION:TBD West Side School
URL;VALUE=URI:https://www.tusd.org/schools/victor/calendar/8493157/elmac-2
DTSTART:20260116T180000Z
DTEND:20260116T190000Z
END:VEVENT
END:VCALENDAR
