BEGIN:VCALENDAR
VERSION:2.0
PRODID:SchoolNow
CALSCALE:GREGORIAN
BEGIN:VEVENT
UID:fa79d722-76f1-11f0-87ec-0e9065fc1cdf
DTSTAMP:20251216T200037Z
SUMMARY:Victor Staff Meeting (All staff)
LOCATION:Victor Elementary School\, 4820 Spencer St\, Torrance\, CA 90503\,
  USA
URL;VALUE=URI:https://www.tusd.org/schools/victor/calendar/8492428/victor-s
 taff-meeting-all-staff
DTSTART:20250820T160000Z
DTEND:20250820T173000Z
END:VEVENT
END:VCALENDAR
