BEGIN:VCALENDAR
VERSION:2.0
PRODID:SchoolNow
CALSCALE:GREGORIAN
BEGIN:VEVENT
UID:fa79b850-76f1-11f0-ade7-0e9065fc1cdf
DTSTAMP:20251216T200037Z
SUMMARY:Victor Certificated Staff Meeting
LOCATION:Victor Elementary School\, 4820 Spencer St\, Torrance\, CA 90503\,
  USA
URL;VALUE=URI:https://www.tusd.org/schools/victor/calendar/8492427/victor-c
 ertificated-staff-meeting
DTSTART:20250819T154500Z
DTEND:20250819T164500Z
END:VEVENT
END:VCALENDAR
