BEGIN:VCALENDAR
VERSION:2.0
PRODID:SchoolNow
CALSCALE:GREGORIAN
BEGIN:VEVENT
UID:1a3cf51e-748e-11f0-aa94-0a58a9feac02
DTSTAMP:20251216T200037Z
SUMMARY:Victor Drama Club Performance (1st - 3rd Grade)
URL;VALUE=URI:https://www.tusd.org/schools/victor/calendar/8483851/victor-d
 rama-club-performance-1st-3rd-grade
DTSTART:20260515T010000Z
DTEND:20260515T020000Z
END:VEVENT
END:VCALENDAR
