BEGIN:VCALENDAR
VERSION:2.0
PRODID:SchoolNow
CALSCALE:GREGORIAN
BEGIN:VEVENT
UID:1a3c3156-748e-11f0-b30d-0a58a9feac02
DTSTAMP:20251216T200037Z
SUMMARY:Victor Drama Club Performance (1st - 3rd Grade)
LOCATION:Victor Elementary School\, 4820 Spencer St\, Torrance\, CA 90503\,
  USA
URL;VALUE=URI:https://www.tusd.org/schools/victor/calendar/8483850/victor-d
 rama-club-performance-1st-3rd-grade
DTSTART:20251121T010000Z
DTEND:20251121T030000Z
END:VEVENT
END:VCALENDAR
