BEGIN:VCALENDAR
VERSION:2.0
PRODID:SchoolNow
CALSCALE:GREGORIAN
BEGIN:VEVENT
UID:20860f9e-73f5-11f0-ab9f-0234fd3244dd
DTSTAMP:20251216T200037Z
SUMMARY:Torrance Innovation Festival
LOCATION:El Camino College\, 16007 Crenshaw Blvd\, Torrance\, CA 90506\, US
 A
URL;VALUE=URI:https://www.tusd.org/schools/victor/calendar/8481818/torrance
 -innovation-festival
DTSTART;VALUE=DATE:20260418
DTEND;VALUE=DATE:20260419
END:VEVENT
END:VCALENDAR
