BEGIN:VCALENDAR
VERSION:2.0
PRODID:SchoolNow
CALSCALE:GREGORIAN
BEGIN:VEVENT
UID:204073ee-73f5-11f0-b073-0234fd3244dd
DTSTAMP:20251216T200037Z
SUMMARY:District STEAM Fair
URL;VALUE=URI:https://www.tusd.org/schools/victor/calendar/8481817/district
 -steam-fair
DTSTART:20260306T010000Z
DTEND:20260306T030000Z
END:VEVENT
END:VCALENDAR
