BEGIN:VCALENDAR
VERSION:2.0
PRODID:SchoolNow
CALSCALE:GREGORIAN
BEGIN:VEVENT
UID:232c0be6-73c2-11f0-bbaa-0a58a9feac02
DTSTAMP:20251216T200037Z
SUMMARY:ELMAC #1
LOCATION:Victor Elementary School\, 4820 Spencer St\, Torrance\, CA 90503\,
  USA
URL;VALUE=URI:https://www.tusd.org/schools/victor/calendar/8480310/elmac-1
DTSTART:20251010T163000Z
DTEND:20251010T173000Z
END:VEVENT
END:VCALENDAR
