BEGIN:VCALENDAR
VERSION:2.0
PRODID:SchoolNow
CALSCALE:GREGORIAN
BEGIN:VEVENT
UID:30b70814-6cca-11f0-a806-0afff8a8bbc7
DTSTAMP:20251216T200037Z
SUMMARY:Early Dismissal (2:27)
LOCATION:Victor Elementary School\, 4820 Spencer St\, Torrance\, CA 90503\,
  USA
URL;VALUE=URI:https://www.tusd.org/schools/victor/calendar/8456630/early-di
 smissal-2-27
DTSTART:20260506T213000Z
DTEND:20260506T220000Z
END:VEVENT
END:VCALENDAR
