BEGIN:VCALENDAR
VERSION:2.0
PRODID:SchoolNow
CALSCALE:GREGORIAN
BEGIN:VEVENT
UID:30b6f70c-6cca-11f0-95d3-0afff8a8bbc7
DTSTAMP:20251216T200037Z
SUMMARY:Early Dismissal (2:12- Parent Conferences)
LOCATION:Victor Elementary School\, 4820 Spencer St\, Torrance\, CA 90503\,
  USA
URL;VALUE=URI:https://www.tusd.org/schools/victor/calendar/8456624/early-di
 smissal-2-12-parent-conferences
DTSTART:20260325T211500Z
DTEND:20260327T214500Z
END:VEVENT
END:VCALENDAR
