BEGIN:VCALENDAR
VERSION:2.0
PRODID:SchoolNow
CALSCALE:GREGORIAN
BEGIN:VEVENT
UID:3051bae0-6cca-11f0-84ae-0afff8a8bbc7
DTSTAMP:20251216T200037Z
SUMMARY:Early Dismissal (Back to School Night)
LOCATION:Victor Elementary School\, 4820 Spencer St\, Torrance\, CA 90503\,
  USA
URL;VALUE=URI:https://www.tusd.org/schools/victor/calendar/8456576/early-di
 smissal-back-to-school-night
DTSTART:20250911T211500Z
DTEND:20250911T214500Z
END:VEVENT
END:VCALENDAR
