BEGIN:VCALENDAR
VERSION:2.0
PRODID:SchoolNow
CALSCALE:GREGORIAN
BEGIN:VEVENT
UID:3878e0b6-6c31-11f0-a2e3-0a58a9feac02
DTSTAMP:20251216T200037Z
SUMMARY:Spirit Assembly (Families are Welcome to Attend!)
LOCATION:Victor Elementary School\, 4820 Spencer St\, Torrance\, CA 90503\,
  USA
URL;VALUE=URI:https://www.tusd.org/schools/victor/calendar/8454453/spirit-a
 ssembly-families-are-welcome-to-attend
DTSTART:20260515T161500Z
DTEND:20260515T164500Z
END:VEVENT
END:VCALENDAR
