BEGIN:VCALENDAR
VERSION:2.0
PRODID:SchoolNow
CALSCALE:GREGORIAN
BEGIN:VEVENT
UID:3878d62a-6c31-11f0-ac43-0a58a9feac02
DTSTAMP:20251216T200037Z
SUMMARY:Spirit Assembly (Families are invited to attend))
LOCATION:Victor Elementary School\, 4820 Spencer St\, Torrance\, CA 90503\,
  USA
URL;VALUE=URI:https://www.tusd.org/schools/victor/calendar/8454446/spirit-a
 ssembly-families-are-invited-to-attend
DTSTART:20260320T161500Z
DTEND:20260320T164500Z
END:VEVENT
END:VCALENDAR
