BEGIN:VCALENDAR
VERSION:2.0
PRODID:SchoolNow
CALSCALE:GREGORIAN
BEGIN:VEVENT
UID:3878cc98-6c31-11f0-a6a6-0a58a9feac02
DTSTAMP:20251216T200037Z
SUMMARY:Spirit Assembly (i-Ready Rally/Families are Welcome to Attend!)
LOCATION:Victor Elementary School\, 4820 Spencer St\, Torrance\, CA 90503\,
  USA
URL;VALUE=URI:https://www.tusd.org/schools/victor/calendar/8454436/spirit-a
 ssembly-i-ready-rally-families-are-welcome-to-attend
DTSTART:20260109T171500Z
DTEND:20260109T174500Z
END:VEVENT
END:VCALENDAR
