BEGIN:VCALENDAR
VERSION:2.0
PRODID:SchoolNow
CALSCALE:GREGORIAN
BEGIN:VEVENT
UID:3878caea-6c31-11f0-96e5-0a58a9feac02
DTSTAMP:20251216T200037Z
SUMMARY:Spirit Assembly (Mural Recognition/Families are Welcome to Attend!)
LOCATION:Victor Elementary School\, 4820 Spencer St\, Torrance\, CA 90503\,
  USA
URL;VALUE=URI:https://www.tusd.org/schools/victor/calendar/8454434/spirit-a
 ssembly-mural-recognition-families-are-welcome-to-attend
DTSTART:20251212T171500Z
DTEND:20251212T174500Z
END:VEVENT
END:VCALENDAR
