BEGIN:VCALENDAR
VERSION:2.0
PRODID:SchoolNow
CALSCALE:GREGORIAN
BEGIN:VEVENT
UID:3878c5ae-6c31-11f0-96f7-0a58a9feac02
DTSTAMP:20251216T200037Z
SUMMARY:Spirit Assembly (Virtual)
LOCATION:Victor Elementary School\, 4820 Spencer St\, Torrance\, CA 90503\,
  USA
URL;VALUE=URI:https://www.tusd.org/schools/victor/calendar/8454428/spirit-a
 ssembly-virtual
DTSTART:20251017T161500Z
DTEND:20251017T164500Z
END:VEVENT
END:VCALENDAR
