BEGIN:VCALENDAR
VERSION:2.0
PRODID:SchoolNow
CALSCALE:GREGORIAN
BEGIN:VEVENT
UID:3878bbb8-6c31-11f0-946a-0a58a9feac02
DTSTAMP:20251216T200037Z
SUMMARY:Spirit Assembly (Cub Scouts/Families are Welcome to Attend!)
LOCATION:Victor Elementary School\, 4820 Spencer St\, Torrance\, CA 90503\,
  USA
URL;VALUE=URI:https://www.tusd.org/schools/victor/calendar/8454421/spirit-a
 ssembly-cub-scouts-families-are-welcome-to-attend
DTSTART:20250829T161500Z
DTEND:20250829T164500Z
END:VEVENT
END:VCALENDAR
