BEGIN:VCALENDAR
VERSION:2.0
PRODID:SchoolNow
CALSCALE:GREGORIAN
BEGIN:VEVENT
UID:3827386a-6c31-11f0-9999-0a58a9feac02
DTSTAMP:20251216T200037Z
SUMMARY:Victor 5th Grade Articulation Ceremony
LOCATION:Victor Elementary School\, 4820 Spencer St\, Torrance\, CA 90503\,
  USA
URL;VALUE=URI:https://www.tusd.org/schools/victor/calendar/8454420/victor-5
 th-grade-articulation-ceremony
DTSTART:20260611T161500Z
DTEND:20260611T171500Z
END:VEVENT
END:VCALENDAR
