BEGIN:VCALENDAR
VERSION:2.0
PRODID:SchoolNow
CALSCALE:GREGORIAN
BEGIN:VEVENT
UID:3827375c-6c31-11f0-91c2-0a58a9feac02
DTSTAMP:20251216T200037Z
SUMMARY:Last Day of School (9:00 - 12:00)
LOCATION:Victor Elementary School\, 4820 Spencer St\, Torrance\, CA 90503\,
  USA
URL;VALUE=URI:https://www.tusd.org/schools/victor/calendar/8454419/last-day
 -of-school-9-00-12-00
DTSTART:20260611T160000Z
DTEND:20260611T190000Z
END:VEVENT
END:VCALENDAR
