BEGIN:VCALENDAR
VERSION:2.0
PRODID:SchoolNow
CALSCALE:GREGORIAN
BEGIN:VEVENT
UID:3827354a-6c31-11f0-b470-0a58a9feac02
DTSTAMP:20251216T200037Z
SUMMARY:Victor Portfolio Day
LOCATION:Victor Elementary School\, 4820 Spencer St\, Torrance\, CA 90503\,
  USA
URL;VALUE=URI:https://www.tusd.org/schools/victor/calendar/8454417/victor-p
 ortfolio-day
DTSTART:20260522T161500Z
DTEND:20260522T171500Z
END:VEVENT
END:VCALENDAR
