BEGIN:VCALENDAR
VERSION:2.0
PRODID:SchoolNow
CALSCALE:GREGORIAN
BEGIN:VEVENT
UID:38273432-6c31-11f0-a7b7-0a58a9feac02
DTSTAMP:20251216T200037Z
SUMMARY:Victor PTA Association Meeting/Spring Concert
LOCATION:Victor Elementary School\, 4820 Spencer St\, Torrance\, CA 90503\,
  USA
URL;VALUE=URI:https://www.tusd.org/schools/victor/calendar/8454416/victor-p
 ta-association-meeting-spring-concert
DTSTART:20260522T010000Z
DTEND:20260522T020000Z
END:VEVENT
END:VCALENDAR
