BEGIN:VCALENDAR
VERSION:2.0
PRODID:SchoolNow
CALSCALE:GREGORIAN
BEGIN:VEVENT
UID:382730d6-6c31-11f0-906f-0a58a9feac02
DTSTAMP:20251216T200037Z
SUMMARY:Victor PTA Board Meeting
LOCATION:Victor Elementary School\, 4820 Spencer St\, Torrance\, CA 90503\,
  USA
URL;VALUE=URI:https://www.tusd.org/schools/victor/calendar/8454415/victor-p
 ta-board-meeting
DTSTART:20260508T000000Z
DTEND:20260508T010000Z
END:VEVENT
END:VCALENDAR
