BEGIN:VCALENDAR
VERSION:2.0
PRODID:SchoolNow
CALSCALE:GREGORIAN
BEGIN:VEVENT
UID:38272c44-6c31-11f0-baca-0a58a9feac02
DTSTAMP:20251216T200037Z
SUMMARY:Victor PTA Bike Rodeo
LOCATION:Victor Elementary School\, 4820 Spencer St\, Torrance\, CA 90503\,
  USA
URL;VALUE=URI:https://www.tusd.org/schools/victor/calendar/8454413/victor-p
 ta-bike-rodeo
DTSTART:20260424T160000Z
DTEND:20260424T173000Z
END:VEVENT
END:VCALENDAR
