BEGIN:VCALENDAR
VERSION:2.0
PRODID:SchoolNow
CALSCALE:GREGORIAN
BEGIN:VEVENT
UID:38272b68-6c31-11f0-a582-0a58a9feac02
DTSTAMP:20251216T200037Z
SUMMARY:Victor PTA Talent Show at WHS
LOCATION:West High School\, 20401 Victor St\, Torrance\, CA 90503\, USA
URL;VALUE=URI:https://www.tusd.org/schools/victor/calendar/8454412/victor-p
 ta-talent-show-at-whs
DTSTART:20260418T000000Z
DTEND:20260418T020000Z
END:VEVENT
END:VCALENDAR
