BEGIN:VCALENDAR
VERSION:2.0
PRODID:SchoolNow
CALSCALE:GREGORIAN
BEGIN:VEVENT
UID:38272a8c-6c31-11f0-9e47-0a58a9feac02
DTSTAMP:20251216T200037Z
SUMMARY:Victor PTA Board Meeting
LOCATION:Victor Elementary School\, 4820 Spencer St\, Torrance\, CA 90503\,
  USA
URL;VALUE=URI:https://www.tusd.org/schools/victor/calendar/8454411/victor-p
 ta-board-meeting
DTSTART:20260410T000000Z
DTEND:20260410T010000Z
END:VEVENT
END:VCALENDAR
