BEGIN:VCALENDAR
VERSION:2.0
PRODID:SchoolNow
CALSCALE:GREGORIAN
BEGIN:VEVENT
UID:382728d4-6c31-11f0-9d6a-0a58a9feac02
DTSTAMP:20251216T200037Z
SUMMARY:Victor PTA Jog-a-Thon Fundraiser Event
LOCATION:Victor Elementary School\, 4820 Spencer St\, Torrance\, CA 90503\,
  USA
URL;VALUE=URI:https://www.tusd.org/schools/victor/calendar/8454409/victor-p
 ta-jog-a-thon-fundraiser-event
DTSTART;VALUE=DATE:20260326
DTEND;VALUE=DATE:20260327
END:VEVENT
END:VCALENDAR
