BEGIN:VCALENDAR
VERSION:2.0
PRODID:SchoolNow
CALSCALE:GREGORIAN
BEGIN:VEVENT
UID:38272708-6c31-11f0-bc97-0a58a9feac02
DTSTAMP:20251216T200037Z
SUMMARY:Victor PTA Board Meeting
LOCATION:Victor Elementary School\, 4820 Spencer St\, Torrance\, CA 90503\,
  USA
URL;VALUE=URI:https://www.tusd.org/schools/victor/calendar/8454407/victor-p
 ta-board-meeting
DTSTART:20260306T010000Z
DTEND:20260306T030000Z
END:VEVENT
END:VCALENDAR
