BEGIN:VCALENDAR
VERSION:2.0
PRODID:SchoolNow
CALSCALE:GREGORIAN
BEGIN:VEVENT
UID:38272618-6c31-11f0-b4f1-0a58a9feac02
DTSTAMP:20251216T200037Z
SUMMARY:Disability Awareness Week
LOCATION:Victor Elementary School\, 4820 Spencer St\, Torrance\, CA 90503\,
  USA
URL;VALUE=URI:https://www.tusd.org/schools/victor/calendar/8454406/disabili
 ty-awareness-week
DTSTART;VALUE=DATE:20260302
DTEND;VALUE=DATE:20260306
END:VEVENT
END:VCALENDAR
