BEGIN:VCALENDAR
VERSION:2.0
PRODID:SchoolNow
CALSCALE:GREGORIAN
BEGIN:VEVENT
UID:3827253c-6c31-11f0-a193-0a58a9feac02
DTSTAMP:20251216T200037Z
SUMMARY:Victor PTA Association Meeting/Honorary Service Awards
LOCATION:Victor Elementary School\, 4820 Spencer St\, Torrance\, CA 90503\,
  USA
URL;VALUE=URI:https://www.tusd.org/schools/victor/calendar/8454405/victor-p
 ta-association-meeting-honorary-service-awards
DTSTART:20260227T020000Z
DTEND:20260227T030000Z
END:VEVENT
END:VCALENDAR
