BEGIN:VCALENDAR
VERSION:2.0
PRODID:SchoolNow
CALSCALE:GREGORIAN
BEGIN:VEVENT
UID:38272370-6c31-11f0-830b-0a58a9feac02
DTSTAMP:20251216T200037Z
SUMMARY:Victor PTA Dance
LOCATION:Victor Elementary School\, 4820 Spencer St\, Torrance\, CA 90503\,
  USA
URL;VALUE=URI:https://www.tusd.org/schools/victor/calendar/8454403/victor-p
 ta-dance
DTSTART:20260207T020000Z
DTEND:20260207T040000Z
END:VEVENT
END:VCALENDAR
