BEGIN:VCALENDAR
VERSION:2.0
PRODID:SchoolNow
CALSCALE:GREGORIAN
BEGIN:VEVENT
UID:38272258-6c31-11f0-8668-0a58a9feac02
DTSTAMP:20251216T200037Z
SUMMARY:Victor PTA Jog-A-Thon Fundraiser
LOCATION:Victor Elementary School\, 4820 Spencer St\, Torrance\, CA 90503\,
  USA
URL;VALUE=URI:https://www.tusd.org/schools/victor/calendar/8454402/victor-p
 ta-jog-a-thon-fundraiser
DTSTART;VALUE=DATE:20260105
DTEND;VALUE=DATE:20260228
END:VEVENT
END:VCALENDAR
